Package: tidytof Version: 1.1.0 Command: E:\biocbuild\bbs-3.21-bioc\R\bin\R.exe CMD check --no-multiarch --install=check:tidytof.install-out.txt --library=E:\biocbuild\bbs-3.21-bioc\R\library --no-vignettes --timings tidytof_1.1.0.tar.gz StartedAt: 2025-02-10 06:11:22 -0500 (Mon, 10 Feb 2025) EndedAt: 2025-02-10 06:20:01 -0500 (Mon, 10 Feb 2025) EllapsedTime: 519.1 seconds RetCode: 0 Status: OK CheckDir: tidytof.Rcheck Warnings: 0