Package: tidytof Version: 1.1.0 Command: E:\biocbuild\bbs-3.21-bioc\R\bin\R.exe CMD INSTALL tidytof StartedAt: 2025-02-09 16:02:25 -0500 (Sun, 09 Feb 2025) EndedAt: 2025-02-09 16:04:07 -0500 (Sun, 09 Feb 2025) EllapsedTime: 101.2 seconds RetCode: 0 Status: OK