Package: tigre Version: 1.61.0 Command: rm -rf tigre.buildbin-libdir && mkdir tigre.buildbin-libdir && /Users/biocbuild/BBS/utils/build-universal.sh tigre_1.61.0.tar.gz /Library/Frameworks/R.framework/Resources/bin/R tigre.buildbin-libdir StartedAt: 2025-02-09 22:33:29 -0500 (Sun, 09 Feb 2025) EndedAt: 2025-02-09 22:33:39 -0500 (Sun, 09 Feb 2025) EllapsedTime: 10.1 seconds RetCode: 0 Status: OK PackageFile: tigre_1.61.0.tgz PackageFileSize: 977.4 KiB