Package: tigre Version: 1.61.0 Command: /Library/Frameworks/R.framework/Resources/bin/R CMD check --install=check:tigre.install-out.txt --library=/Library/Frameworks/R.framework/Resources/library --no-vignettes --timings tigre_1.61.0.tar.gz StartedAt: 2025-02-09 21:45:07 -0500 (Sun, 09 Feb 2025) EndedAt: 2025-02-09 21:45:11 -0500 (Sun, 09 Feb 2025) EllapsedTime: 4.0 seconds RetCode: 1 Status: ERROR CheckDir: tigre.Rcheck Warnings: NA