Package: tigre Version: 1.61.0 Command: /home/biocbuild/R/R/bin/R CMD INSTALL tigre StartedAt: 2025-01-29 19:51:36 -0000 (Wed, 29 Jan 2025) EndedAt: 2025-01-29 19:52:04 -0000 (Wed, 29 Jan 2025) EllapsedTime: 28.2 seconds RetCode: 0 Status: OK