Package: tigre Version: 1.61.0 Command: rm -rf tigre.buildbin-libdir && mkdir tigre.buildbin-libdir && /Users/biocbuild/BBS/utils/build-universal.sh tigre_1.61.0.tar.gz /Library/Frameworks/R.framework/Resources/bin/R tigre.buildbin-libdir StartedAt: 2025-02-10 01:20:30 -0500 (Mon, 10 Feb 2025) EndedAt: 2025-02-10 01:21:02 -0500 (Mon, 10 Feb 2025) EllapsedTime: 32.2 seconds RetCode: 0 Status: OK PackageFile: tigre_1.61.0.tgz PackageFileSize: 976.1 KiB