Package: tigre Version: 1.61.0 Command: /Library/Frameworks/R.framework/Resources/bin/R CMD check --install=check:tigre.install-out.txt --library=/Library/Frameworks/R.framework/Resources/library --no-vignettes --timings tigre_1.61.0.tar.gz StartedAt: 2025-02-10 00:06:56 -0500 (Mon, 10 Feb 2025) EndedAt: 2025-02-10 00:07:01 -0500 (Mon, 10 Feb 2025) EllapsedTime: 5.7 seconds RetCode: 1 Status: ERROR CheckDir: tigre.Rcheck Warnings: NA