Package: tigre Version: 1.61.0 Command: /Library/Frameworks/R.framework/Resources/bin/R CMD INSTALL tigre StartedAt: 2025-02-09 15:17:13 -0500 (Sun, 09 Feb 2025) EndedAt: 2025-02-09 15:17:41 -0500 (Sun, 09 Feb 2025) EllapsedTime: 28.3 seconds RetCode: 0 Status: OK