Package: tigre Version: 1.61.0 Command: /home/biocbuild/bbs-3.21-bioc/R/bin/R CMD build --keep-empty-dirs --no-resave-data tigre StartedAt: 2025-02-04 19:34:05 -0500 (Tue, 04 Feb 2025) EndedAt: 2025-02-04 19:37:11 -0500 (Tue, 04 Feb 2025) EllapsedTime: 186.3 seconds RetCode: 0 Status: OK PackageFile: tigre_1.61.0.tar.gz PackageFileSize: 317.9 KiB