Package: tigre Version: 1.61.0 Command: /home/biocbuild/bbs-3.21-bioc/R/bin/R CMD check --install=check:tigre.install-out.txt --library=/home/biocbuild/bbs-3.21-bioc/R/site-library --timings tigre_1.61.0.tar.gz StartedAt: 2025-02-10 03:22:13 -0500 (Mon, 10 Feb 2025) EndedAt: 2025-02-10 03:22:18 -0500 (Mon, 10 Feb 2025) EllapsedTime: 5.0 seconds RetCode: 1 Status: ERROR CheckDir: tigre.Rcheck Warnings: NA