Package: tigre Version: 1.61.0 Command: /home/biocbuild/bbs-3.21-bioc/R/bin/R CMD INSTALL tigre StartedAt: 2025-02-04 15:25:38 -0500 (Tue, 04 Feb 2025) EndedAt: 2025-02-04 15:25:57 -0500 (Tue, 04 Feb 2025) EllapsedTime: 19.2 seconds RetCode: 0 Status: OK