Package: tigre Version: 1.61.0 Command: chmod a+r tigre -R && E:\biocbuild\bbs-3.21-bioc\R\bin\R.exe CMD build --keep-empty-dirs --no-resave-data tigre StartedAt: 2025-02-09 22:05:55 -0500 (Sun, 09 Feb 2025) EndedAt: 2025-02-09 22:09:05 -0500 (Sun, 09 Feb 2025) EllapsedTime: 189.9 seconds RetCode: 0 Status: OK PackageFile: tigre_1.61.0.tar.gz PackageFileSize: 319.1 KiB