Package: tilingArray Version: 1.85.0 Command: rm -rf tilingArray.buildbin-libdir && mkdir tilingArray.buildbin-libdir && /Users/biocbuild/BBS/utils/build-universal.sh tilingArray_1.85.0.tar.gz /Library/Frameworks/R.framework/Resources/bin/R tilingArray.buildbin-libdir StartedAt: 2025-02-10 01:20:32 -0500 (Mon, 10 Feb 2025) EndedAt: 2025-02-10 01:21:09 -0500 (Mon, 10 Feb 2025) EllapsedTime: 36.8 seconds RetCode: 0 Status: OK PackageFile: tilingArray_1.85.0.tgz PackageFileSize: 3.877 MiB