Package: tilingArray Version: 1.85.0 Command: E:\biocbuild\bbs-3.21-bioc\R\bin\R.exe CMD INSTALL tilingArray StartedAt: 2025-02-09 15:56:50 -0500 (Sun, 09 Feb 2025) EndedAt: 2025-02-09 15:57:45 -0500 (Sun, 09 Feb 2025) EllapsedTime: 54.2 seconds RetCode: 0 Status: OK