Package: timeOmics Version: 1.19.0 Command: /home/biocbuild/R/R/bin/R CMD INSTALL timeOmics StartedAt: 2025-01-29 20:05:51 -0000 (Wed, 29 Jan 2025) EndedAt: 2025-01-29 20:06:05 -0000 (Wed, 29 Jan 2025) EllapsedTime: 13.7 seconds RetCode: 0 Status: OK