Package: timeOmics Version: 1.19.0 Command: chmod a+r timeOmics -R && E:\biocbuild\bbs-3.21-bioc\R\bin\R.exe CMD build --keep-empty-dirs --no-resave-data timeOmics StartedAt: 2025-02-09 22:06:28 -0500 (Sun, 09 Feb 2025) EndedAt: 2025-02-09 22:07:24 -0500 (Sun, 09 Feb 2025) EllapsedTime: 56.4 seconds RetCode: 0 Status: OK PackageFile: timeOmics_1.19.0.tar.gz PackageFileSize: 2.767 MiB