Package: timeOmics Version: 1.19.0 Command: E:\biocbuild\bbs-3.21-bioc\R\bin\R.exe CMD check --no-multiarch --install=check:timeOmics.install-out.txt --library=E:\biocbuild\bbs-3.21-bioc\R\library --no-vignettes --timings timeOmics_1.19.0.tar.gz StartedAt: 2025-02-10 06:11:48 -0500 (Mon, 10 Feb 2025) EndedAt: 2025-02-10 06:15:05 -0500 (Mon, 10 Feb 2025) EllapsedTime: 197.1 seconds RetCode: 0 Status: WARNINGS CheckDir: timeOmics.Rcheck Warnings: 2