Package: timecourse Version: 1.79.0 Maintainer: Yu Chuan Tai MaintainerEmail: yuchuan at stat.berkeley.edu git_url: https://git.bioconductor.org/packages/timecourse git_branch: devel git_last_commit: e883bf8 git_last_commit_date: 2024-10-29 09:25:01 -0500 (Tue, 29 Oct 2024)