Package: timecourse Version: 1.79.0 Command: /Library/Frameworks/R.framework/Resources/bin/R CMD check --install=check:timecourse.install-out.txt --library=/Library/Frameworks/R.framework/Resources/library --no-vignettes --timings timecourse_1.79.0.tar.gz StartedAt: 2025-02-10 00:07:28 -0500 (Mon, 10 Feb 2025) EndedAt: 2025-02-10 00:08:22 -0500 (Mon, 10 Feb 2025) EllapsedTime: 54.0 seconds RetCode: 0 Status: OK CheckDir: timecourse.Rcheck Warnings: 0