Package: timecourse Version: 1.79.0 Command: /home/biocbuild/bbs-3.21-bioc/R/bin/R CMD build --keep-empty-dirs --no-resave-data timecourse StartedAt: 2025-02-09 19:36:36 -0500 (Sun, 09 Feb 2025) EndedAt: 2025-02-09 19:36:51 -0500 (Sun, 09 Feb 2025) EllapsedTime: 15.0 seconds RetCode: 0 Status: OK PackageFile: timecourse_1.79.0.tar.gz PackageFileSize: 841.2 KiB