Package: timecourse Version: 1.79.0 Command: /home/biocbuild/bbs-3.21-bioc/R/bin/R CMD check --install=check:timecourse.install-out.txt --library=/home/biocbuild/bbs-3.21-bioc/R/site-library --timings timecourse_1.79.0.tar.gz StartedAt: 2025-02-13 03:22:37 -0500 (Thu, 13 Feb 2025) EndedAt: 2025-02-13 03:23:24 -0500 (Thu, 13 Feb 2025) EllapsedTime: 47.0 seconds RetCode: 0 Status: OK CheckDir: timecourse.Rcheck Warnings: 0