Package: timecourse Version: 1.79.0 Command: rm -rf timecourse.buildbin-libdir && mkdir timecourse.buildbin-libdir && E:\biocbuild\bbs-3.21-bioc\R\bin\R.exe CMD INSTALL --build --library=timecourse.buildbin-libdir timecourse_1.79.0.tar.gz StartedAt: 2025-02-10 08:52:35 -0500 (Mon, 10 Feb 2025) EndedAt: 2025-02-10 08:52:54 -0500 (Mon, 10 Feb 2025) EllapsedTime: 18.5 seconds RetCode: 0 Status: OK PackageFile: timecourse_1.79.0.zip PackageFileSize: 819.5 KiB