Package: timecourse Version: 1.79.0 Command: E:\biocbuild\bbs-3.21-bioc\R\bin\R.exe CMD check --no-multiarch --install=check:timecourse.install-out.txt --library=E:\biocbuild\bbs-3.21-bioc\R\library --no-vignettes --timings timecourse_1.79.0.tar.gz StartedAt: 2025-02-04 06:37:29 -0500 (Tue, 04 Feb 2025) EndedAt: 2025-02-04 06:38:24 -0500 (Tue, 04 Feb 2025) EllapsedTime: 54.4 seconds RetCode: 0 Status: OK CheckDir: timecourse.Rcheck Warnings: 0