Package: tomoda Version: 1.17.0 Command: /home/biocbuild/R/R/bin/R CMD INSTALL tomoda StartedAt: 2025-01-29 19:42:46 -0000 (Wed, 29 Jan 2025) EndedAt: 2025-01-29 19:43:17 -0000 (Wed, 29 Jan 2025) EllapsedTime: 31.5 seconds RetCode: 0 Status: OK