Package: tomoda Version: 1.17.0 Command: rm -rf tomoda.buildbin-libdir && mkdir tomoda.buildbin-libdir && /Users/biocbuild/BBS/utils/build-universal.sh tomoda_1.17.0.tar.gz /Library/Frameworks/R.framework/Resources/bin/R tomoda.buildbin-libdir StartedAt: 2025-02-04 01:00:43 -0500 (Tue, 04 Feb 2025) EndedAt: 2025-02-04 01:01:18 -0500 (Tue, 04 Feb 2025) EllapsedTime: 34.6 seconds RetCode: 0 Status: OK PackageFile: tomoda_1.17.0.tgz PackageFileSize: 2.963 MiB