Package: tomoda Version: 1.17.0 Command: /Library/Frameworks/R.framework/Resources/bin/R CMD INSTALL tomoda StartedAt: 2025-02-09 15:10:15 -0500 (Sun, 09 Feb 2025) EndedAt: 2025-02-09 15:10:47 -0500 (Sun, 09 Feb 2025) EllapsedTime: 32.3 seconds RetCode: 0 Status: OK