Package: tomoda Version: 1.17.0 Command: /home/biocbuild/bbs-3.21-bioc/R/bin/R CMD check --install=check:tomoda.install-out.txt --library=/home/biocbuild/bbs-3.21-bioc/R/site-library --timings tomoda_1.17.0.tar.gz StartedAt: 2025-02-10 03:25:09 -0500 (Mon, 10 Feb 2025) EndedAt: 2025-02-10 03:32:14 -0500 (Mon, 10 Feb 2025) EllapsedTime: 424.6 seconds RetCode: 0 Status: OK CheckDir: tomoda.Rcheck Warnings: 0