Package: tomoda Version: 1.17.0 Command: E:\biocbuild\bbs-3.21-bioc\R\bin\R.exe CMD INSTALL tomoda StartedAt: 2025-02-09 16:06:54 -0500 (Sun, 09 Feb 2025) EndedAt: 2025-02-09 16:07:20 -0500 (Sun, 09 Feb 2025) EllapsedTime: 26.4 seconds RetCode: 0 Status: OK