Package: tomoseqr Version: 1.11.0 Command: rm -rf tomoseqr.buildbin-libdir && mkdir tomoseqr.buildbin-libdir && /Users/biocbuild/BBS/utils/build-universal.sh tomoseqr_1.11.0.tar.gz /Library/Frameworks/R.framework/Resources/bin/R tomoseqr.buildbin-libdir StartedAt: 2025-02-04 22:35:29 -0500 (Tue, 04 Feb 2025) EndedAt: 2025-02-04 22:35:33 -0500 (Tue, 04 Feb 2025) EllapsedTime: 4.1 seconds RetCode: 0 Status: OK PackageFile: tomoseqr_1.11.0.tgz PackageFileSize: 1.221 MiB