Package: tomoseqr Version: 1.11.0 Command: /Library/Frameworks/R.framework/Resources/bin/R CMD INSTALL tomoseqr StartedAt: 2025-02-04 15:16:51 -0500 (Tue, 04 Feb 2025) EndedAt: 2025-02-04 15:16:54 -0500 (Tue, 04 Feb 2025) EllapsedTime: 3.1 seconds RetCode: 0 Status: OK