Package: tomoseqr Version: 1.11.0 Command: /home/biocbuild/R/R/bin/R CMD check --install=check:tomoseqr.install-out.txt --library=/home/biocbuild/R/R/site-library --no-vignettes --timings tomoseqr_1.11.0.tar.gz StartedAt: 2025-01-28 16:12:26 -0000 (Tue, 28 Jan 2025) EndedAt: 2025-01-28 16:14:29 -0000 (Tue, 28 Jan 2025) EllapsedTime: 123.2 seconds RetCode: 0 Status: OK CheckDir: tomoseqr.Rcheck Warnings: 0