Package: tomoseqr Version: 1.11.0 Command: rm -rf tomoseqr.buildbin-libdir && mkdir tomoseqr.buildbin-libdir && /Users/biocbuild/BBS/utils/build-universal.sh tomoseqr_1.11.0.tar.gz /Library/Frameworks/R.framework/Resources/bin/R tomoseqr.buildbin-libdir StartedAt: 2025-02-10 01:20:50 -0500 (Mon, 10 Feb 2025) EndedAt: 2025-02-10 01:21:04 -0500 (Mon, 10 Feb 2025) EllapsedTime: 13.8 seconds RetCode: 0 Status: OK PackageFile: tomoseqr_1.11.0.tgz PackageFileSize: 1.22 MiB