Package: tomoseqr Version: 1.11.0 Command: /home/biocbuild/bbs-3.21-bioc/R/bin/R CMD INSTALL tomoseqr StartedAt: 2025-02-04 15:08:07 -0500 (Tue, 04 Feb 2025) EndedAt: 2025-02-04 15:08:14 -0500 (Tue, 04 Feb 2025) EllapsedTime: 7.0 seconds RetCode: 0 Status: OK