Package: tomoseqr Version: 1.11.0 Command: E:\biocbuild\bbs-3.21-bioc\R\bin\R.exe CMD check --no-multiarch --install=check:tomoseqr.install-out.txt --library=E:\biocbuild\bbs-3.21-bioc\R\library --no-vignettes --timings tomoseqr_1.11.0.tar.gz StartedAt: 2025-02-10 06:15:06 -0500 (Mon, 10 Feb 2025) EndedAt: 2025-02-10 06:16:28 -0500 (Mon, 10 Feb 2025) EllapsedTime: 82.0 seconds RetCode: 0 Status: OK CheckDir: tomoseqr.Rcheck Warnings: 0