Package: topGO Version: 2.59.0 Maintainer: Adrian Alexa MaintainerEmail: adrian.alexa at gmail.com git_url: https://git.bioconductor.org/packages/topGO git_branch: devel git_last_commit: 2711dac git_last_commit_date: 2024-10-29 09:27:28 -0500 (Tue, 29 Oct 2024)