Package: topGO Version: 2.59.0 Command: rm -rf topGO.buildbin-libdir && mkdir topGO.buildbin-libdir && /Users/biocbuild/BBS/utils/build-universal.sh topGO_2.59.0.tar.gz /Library/Frameworks/R.framework/Resources/bin/R topGO.buildbin-libdir StartedAt: 2025-02-09 22:33:44 -0500 (Sun, 09 Feb 2025) EndedAt: 2025-02-09 22:33:53 -0500 (Sun, 09 Feb 2025) EllapsedTime: 8.2 seconds RetCode: 0 Status: OK PackageFile: topGO_2.59.0.tgz PackageFileSize: 2.155 MiB