Package: topGO Version: 2.59.0 Command: /Library/Frameworks/R.framework/Resources/bin/R CMD build --keep-empty-dirs --no-resave-data topGO StartedAt: 2025-02-12 17:50:09 -0500 (Wed, 12 Feb 2025) EndedAt: 2025-02-12 17:51:00 -0500 (Wed, 12 Feb 2025) EllapsedTime: 51.6 seconds RetCode: 0 Status: OK PackageFile: topGO_2.59.0.tar.gz PackageFileSize: 1.907 MiB