Package: topGO Version: 2.59.0 Command: /Library/Frameworks/R.framework/Resources/bin/R CMD check --install=check:topGO.install-out.txt --library=/Library/Frameworks/R.framework/Resources/library --no-vignettes --timings topGO_2.59.0.tar.gz StartedAt: 2025-02-12 21:52:03 -0500 (Wed, 12 Feb 2025) EndedAt: 2025-02-12 21:52:52 -0500 (Wed, 12 Feb 2025) EllapsedTime: 49.6 seconds RetCode: 0 Status: WARNINGS CheckDir: topGO.Rcheck Warnings: 1