Package: topGO Version: 2.59.0 Command: /Library/Frameworks/R.framework/Resources/bin/R CMD INSTALL topGO StartedAt: 2025-02-09 15:09:57 -0500 (Sun, 09 Feb 2025) EndedAt: 2025-02-09 15:10:04 -0500 (Sun, 09 Feb 2025) EllapsedTime: 7.3 seconds RetCode: 0 Status: OK