Package: topGO Version: 2.59.0 Command: /home/biocbuild/bbs-3.21-bioc/R/bin/R CMD INSTALL topGO StartedAt: 2025-02-12 15:37:54 -0500 (Wed, 12 Feb 2025) EndedAt: 2025-02-12 15:38:13 -0500 (Wed, 12 Feb 2025) EllapsedTime: 18.8 seconds RetCode: 0 Status: OK