Package: topGO Version: 2.59.0 Command: rm -rf topGO.buildbin-libdir && mkdir topGO.buildbin-libdir && E:\biocbuild\bbs-3.21-bioc\R\bin\R.exe CMD INSTALL --build --library=topGO.buildbin-libdir topGO_2.59.0.tar.gz StartedAt: 2025-02-10 08:53:19 -0500 (Mon, 10 Feb 2025) EndedAt: 2025-02-10 08:54:44 -0500 (Mon, 10 Feb 2025) EllapsedTime: 84.6 seconds RetCode: 0 Status: OK PackageFile: topGO_2.59.0.zip PackageFileSize: 1.951 MiB