Package: topGO Version: 2.59.0 Command: E:\biocbuild\bbs-3.21-bioc\R\bin\R.exe CMD check --no-multiarch --install=check:topGO.install-out.txt --library=E:\biocbuild\bbs-3.21-bioc\R\library --no-vignettes --timings topGO_2.59.0.tar.gz StartedAt: 2025-02-10 06:15:36 -0500 (Mon, 10 Feb 2025) EndedAt: 2025-02-10 06:18:14 -0500 (Mon, 10 Feb 2025) EllapsedTime: 157.8 seconds RetCode: 0 Status: WARNINGS CheckDir: topGO.Rcheck Warnings: 1