Package: topGO Version: 2.59.0 Command: E:\biocbuild\bbs-3.21-bioc\R\bin\R.exe CMD INSTALL topGO StartedAt: 2025-02-09 15:49:26 -0500 (Sun, 09 Feb 2025) EndedAt: 2025-02-09 15:50:48 -0500 (Sun, 09 Feb 2025) EllapsedTime: 82.2 seconds RetCode: 0 Status: OK