Package: topdownr Version: 1.29.0 Command: /Library/Frameworks/R.framework/Resources/bin/R CMD check --install=check:topdownr.install-out.txt --library=/Library/Frameworks/R.framework/Resources/library --no-vignettes --timings topdownr_1.29.0.tar.gz StartedAt: 2025-02-09 21:46:45 -0500 (Sun, 09 Feb 2025) EndedAt: 2025-02-09 21:48:52 -0500 (Sun, 09 Feb 2025) EllapsedTime: 127.6 seconds RetCode: 0 Status: OK CheckDir: topdownr.Rcheck Warnings: 0