Package: topdownr Version: 1.29.0 Command: /Library/Frameworks/R.framework/Resources/bin/R CMD build --keep-empty-dirs --no-resave-data topdownr StartedAt: 2025-02-12 18:36:21 -0500 (Wed, 12 Feb 2025) EndedAt: 2025-02-12 18:37:50 -0500 (Wed, 12 Feb 2025) EllapsedTime: 89.2 seconds RetCode: 0 Status: OK PackageFile: topdownr_1.29.0.tar.gz PackageFileSize: 1.535 MiB