Package: topdownr Version: 1.29.0 Command: /Library/Frameworks/R.framework/Resources/bin/R CMD check --install=check:topdownr.install-out.txt --library=/Library/Frameworks/R.framework/Resources/library --no-vignettes --timings topdownr_1.29.0.tar.gz StartedAt: 2025-02-10 00:09:31 -0500 (Mon, 10 Feb 2025) EndedAt: 2025-02-10 00:16:05 -0500 (Mon, 10 Feb 2025) EllapsedTime: 394.8 seconds RetCode: 0 Status: OK CheckDir: topdownr.Rcheck Warnings: 0