Package: topdownr Version: 1.29.0 Command: /home/biocbuild/bbs-3.21-bioc/R/bin/R CMD INSTALL topdownr StartedAt: 2025-02-12 15:36:40 -0500 (Wed, 12 Feb 2025) EndedAt: 2025-02-12 15:37:24 -0500 (Wed, 12 Feb 2025) EllapsedTime: 44.6 seconds RetCode: 0 Status: OK