Package: topdownr Version: 1.29.0 Command: rm -rf topdownr.buildbin-libdir && mkdir topdownr.buildbin-libdir && E:\biocbuild\bbs-3.21-bioc\R\bin\R.exe CMD INSTALL --build --library=topdownr.buildbin-libdir topdownr_1.29.0.tar.gz StartedAt: 2025-02-10 08:53:17 -0500 (Mon, 10 Feb 2025) EndedAt: 2025-02-10 08:54:50 -0500 (Mon, 10 Feb 2025) EllapsedTime: 93.0 seconds RetCode: 0 Status: OK PackageFile: topdownr_1.29.0.zip PackageFileSize: 2.083 MiB