Package: topdownr Version: 1.29.0 Command: E:\biocbuild\bbs-3.21-bioc\R\bin\R.exe CMD check --no-multiarch --install=check:topdownr.install-out.txt --library=E:\biocbuild\bbs-3.21-bioc\R\library --no-vignettes --timings topdownr_1.29.0.tar.gz StartedAt: 2025-02-10 06:15:23 -0500 (Mon, 10 Feb 2025) EndedAt: 2025-02-10 06:22:21 -0500 (Mon, 10 Feb 2025) EllapsedTime: 418.5 seconds RetCode: 0 Status: OK CheckDir: topdownr.Rcheck Warnings: 0