Package: tpSVG Version: 1.3.0 Command: /Library/Frameworks/R.framework/Resources/bin/R CMD build --keep-empty-dirs --no-resave-data tpSVG StartedAt: 2025-02-12 17:50:25 -0500 (Wed, 12 Feb 2025) EndedAt: 2025-02-12 17:51:07 -0500 (Wed, 12 Feb 2025) EllapsedTime: 42.5 seconds RetCode: 0 Status: OK PackageFile: tpSVG_1.3.0.tar.gz PackageFileSize: 1.237 MiB